BEGIN:VCALENDAR
VERSION:2.0
PRODID:-//千葉衛生福祉協会 - ECPv6.15.20//NONSGML v1.0//EN
CALSCALE:GREGORIAN
METHOD:PUBLISH
X-WR-CALNAME:千葉衛生福祉協会
X-ORIGINAL-URL:http://chibashin.rulesome.info
X-WR-CALDESC:千葉衛生福祉協会 のイベント
REFRESH-INTERVAL;VALUE=DURATION:PT1H
X-Robots-Tag:noindex
X-PUBLISHED-TTL:PT1H
BEGIN:VTIMEZONE
TZID:Asia/Tokyo
BEGIN:STANDARD
TZOFFSETFROM:+0900
TZOFFSETTO:+0900
TZNAME:JST
DTSTART:20200101T000000
END:STANDARD
END:VTIMEZONE
BEGIN:VEVENT
DTSTART;VALUE=DATE:20210907
DTEND;VALUE=DATE:20210910
DTSTAMP:20260420T025805
CREATED:20210907T100527Z
LAST-MODIFIED:20210907T100527Z
UID:64-1630972800-1631231999@chibashin.rulesome.info
SUMMARY:テストイベント
DESCRIPTION:オペラ、ミュージカル、コンサート、展示会、上映会\n\n1階ギャラリー内\nBunkamura Box Gallery：約15坪\nBunkamura Wall Gallery：壁面のみ高さ2.5m幅6m
URL:http://chibashin.rulesome.info/event/%e3%83%86%e3%82%b9%e3%83%88%e3%82%a4%e3%83%99%e3%83%b3%e3%83%88/
LOCATION:Bunkamura\, 道玄坂2-24-1\, 渋谷区\, 東京都\, 150-0043\, 日本
END:VEVENT
END:VCALENDAR